BEGIN:VCALENDAR
VERSION:2.0
PRODID:-//SAGES - ECPv6.15.17.1//NONSGML v1.0//EN
CALSCALE:GREGORIAN
METHOD:PUBLISH
X-WR-CALNAME:SAGES
X-ORIGINAL-URL:https://www.sages.ch
X-WR-CALDESC:Veranstaltungen für SAGES
REFRESH-INTERVAL;VALUE=DURATION:PT1H
X-Robots-Tag:noindex
X-PUBLISHED-TTL:PT1H
BEGIN:VTIMEZONE
TZID:Europe/Zurich
BEGIN:DAYLIGHT
TZOFFSETFROM:+0100
TZOFFSETTO:+0200
TZNAME:CEST
DTSTART:20240331T010000
END:DAYLIGHT
BEGIN:STANDARD
TZOFFSETFROM:+0200
TZOFFSETTO:+0100
TZNAME:CET
DTSTART:20241027T010000
END:STANDARD
BEGIN:DAYLIGHT
TZOFFSETFROM:+0100
TZOFFSETTO:+0200
TZNAME:CEST
DTSTART:20250330T010000
END:DAYLIGHT
BEGIN:STANDARD
TZOFFSETFROM:+0200
TZOFFSETTO:+0100
TZNAME:CET
DTSTART:20251026T010000
END:STANDARD
BEGIN:DAYLIGHT
TZOFFSETFROM:+0100
TZOFFSETTO:+0200
TZNAME:CEST
DTSTART:20260329T010000
END:DAYLIGHT
BEGIN:STANDARD
TZOFFSETFROM:+0200
TZOFFSETTO:+0100
TZNAME:CET
DTSTART:20261025T010000
END:STANDARD
END:VTIMEZONE
BEGIN:VEVENT
DTSTART;VALUE=DATE:20250827
DTEND;VALUE=DATE:20250831
DTSTAMP:20260423T103631
CREATED:20250214T165704Z
LAST-MODIFIED:20250523T063632Z
UID:10325-1756263600-1756522799@www.sages.ch
SUMMARY:Humaniser le travail social ? Des métiers en dilemmes et en (re)configurations
DESCRIPTION:Le 2e Colloque international interdisciplinaire du GIS Hybrida-IS  „Humaniser le travail social ? Des métiers en dilemmes et en (re)configurations“ se tiendra à la Haute école de travail social Fribourg (Suisse) du 27 au 29 août 2025. Cet événement est co-organisé par le GIS Hybrida-IS\, le domaine de travail social de la HES-SO et les quatre hautes écoles de travail social qu’il réunit. Il rassemblera des expert·es des domaines social et médico-social pour échanger sur les transformations et les défis contemporains des métiers du travail social.\nSAGES est un partenaire de coopération. \n› Vers la page web \n 
URL:https://www.sages.ch/agenda/humaniser-le-travail-social-des-metiers-en-dilemmes-et-en-reconfigurations/
LOCATION:Haute école de travail social Fribourg\, Route des Arsenaux 16a\, Fribourg
CATEGORIES:Französisch
END:VEVENT
END:VCALENDAR