BEGIN:VCALENDAR
VERSION:2.0
PRODID:-//SAGES - ECPv6.15.17.1//NONSGML v1.0//EN
CALSCALE:GREGORIAN
METHOD:PUBLISH
X-WR-CALNAME:SAGES
X-ORIGINAL-URL:https://www.sages.ch
X-WR-CALDESC:Veranstaltungen für SAGES
REFRESH-INTERVAL;VALUE=DURATION:PT1H
X-Robots-Tag:noindex
X-PUBLISHED-TTL:PT1H
BEGIN:VTIMEZONE
TZID:Europe/Zurich
BEGIN:DAYLIGHT
TZOFFSETFROM:+0100
TZOFFSETTO:+0200
TZNAME:CEST
DTSTART:20240331T010000
END:DAYLIGHT
BEGIN:STANDARD
TZOFFSETFROM:+0200
TZOFFSETTO:+0100
TZNAME:CET
DTSTART:20241027T010000
END:STANDARD
BEGIN:DAYLIGHT
TZOFFSETFROM:+0100
TZOFFSETTO:+0200
TZNAME:CEST
DTSTART:20250330T010000
END:DAYLIGHT
BEGIN:STANDARD
TZOFFSETFROM:+0200
TZOFFSETTO:+0100
TZNAME:CET
DTSTART:20251026T010000
END:STANDARD
BEGIN:DAYLIGHT
TZOFFSETFROM:+0100
TZOFFSETTO:+0200
TZNAME:CEST
DTSTART:20260329T010000
END:DAYLIGHT
BEGIN:STANDARD
TZOFFSETFROM:+0200
TZOFFSETTO:+0100
TZNAME:CET
DTSTART:20261025T010000
END:STANDARD
END:VTIMEZONE
BEGIN:VEVENT
DTSTART;TZID=Europe/Zurich:20250904T084500
DTEND;TZID=Europe/Zurich:20250904T164500
DTSTAMP:20260421T235753
CREATED:20250321T102338Z
LAST-MODIFIED:20250321T103412Z
UID:10037-1756975500-1757004300@www.sages.ch
SUMMARY:6. Nationale Fachtagung GERONTOLOGIE «Lebenswirklichkeiten des Alters - Vielfalt\, Ungleichheiten und Gemeinsamkeiten»
DESCRIPTION:Was geschieht mit unseren individuellen Lebensentwürfen und Lebensumständen im Alter? Eines ist sicher: Die Vielfalt bleibt. Wie können Fachpersonen dieser Vielfalt im Alltag gerecht werden? SpezialistInnen aus Wissenschaft und Praxis präsentieren Ihnen spannende Ansätze und zeigen auf\, wie wenig die vielschichtige Realität den gängigen Altersbildern entspricht. Tauchen Sie ein in unterschiedliche Lebenswirklichkeiten – von Digital Divide bis zu LGBTQ+\, von Altersarmut bis zu Gestaltungsmöglichkeiten am Lebensende\, von Migration bis zu Lifelong Learning. \nSAGES ist Kooperationspartner der Tagung\, unsere Mitglieder profitieren dabei von vergünstigten Teilnahmekonditionen. \n› Programm \n› Zur Tagungswebseite
URL:https://www.sages.ch/agenda/6-nationale-fachtagung-gerontologie-lebenswirklichkeiten-des-alters-vielfalt-ungleichheiten-und-gemeinsamkeiten/
LOCATION:Hotel National\, Hirschengraben 24\, 3011 Bern
CATEGORIES:Deutsch,Französisch
ORGANIZER;CN="GERONTOLOGIE CH":MAILTO:info@gerontologie.ch
END:VEVENT
END:VCALENDAR