BEGIN:VCALENDAR
VERSION:2.0
PRODID:-//SAGES - ECPv6.15.17.1//NONSGML v1.0//EN
CALSCALE:GREGORIAN
METHOD:PUBLISH
X-WR-CALNAME:SAGES
X-ORIGINAL-URL:https://www.sages.ch
X-WR-CALDESC:Veranstaltungen für SAGES
REFRESH-INTERVAL;VALUE=DURATION:PT1H
X-Robots-Tag:noindex
X-PUBLISHED-TTL:PT1H
BEGIN:VTIMEZONE
TZID:Europe/Zurich
BEGIN:DAYLIGHT
TZOFFSETFROM:+0100
TZOFFSETTO:+0200
TZNAME:CEST
DTSTART:20240331T010000
END:DAYLIGHT
BEGIN:STANDARD
TZOFFSETFROM:+0200
TZOFFSETTO:+0100
TZNAME:CET
DTSTART:20241027T010000
END:STANDARD
BEGIN:DAYLIGHT
TZOFFSETFROM:+0100
TZOFFSETTO:+0200
TZNAME:CEST
DTSTART:20250330T010000
END:DAYLIGHT
BEGIN:STANDARD
TZOFFSETFROM:+0200
TZOFFSETTO:+0100
TZNAME:CET
DTSTART:20251026T010000
END:STANDARD
BEGIN:DAYLIGHT
TZOFFSETFROM:+0100
TZOFFSETTO:+0200
TZNAME:CEST
DTSTART:20260329T010000
END:DAYLIGHT
BEGIN:STANDARD
TZOFFSETFROM:+0200
TZOFFSETTO:+0100
TZNAME:CET
DTSTART:20261025T010000
END:STANDARD
END:VTIMEZONE
BEGIN:VEVENT
DTSTART;VALUE=DATE:20250917
DTEND;VALUE=DATE:20250921
DTSTAMP:20260421T235742
CREATED:20250228T142439Z
LAST-MODIFIED:20250228T142439Z
UID:10019-1758078000-1758337199@www.sages.ch
SUMMARY:60. Jahrestagung der Deutschen Gesellschaft für Sozialmedizin und Prävention (DGSMP): «Teilhabe und Ko-Kreation»
DESCRIPTION:Unter dem Tagungsthema Teilhabe und Ko-Kreation lädt die Deutsche Gesellschaft für Sozialmedizin und Prävention herzlich zur Jahrestagung 2025 ein. In einer Zeit zunehmender sozialer\, gesundheitlicher und gesellschaftlicher Herausforderungen gewinnen inklusive und partizipative Ansätze immer mehr an Bedeutung\, um das Recht auf gesundheitliche Selbstbestimmung insbesondere auch bei belasteten Bevölkerungsgruppen zu stärken und auch\, um der Entwicklung einer auseinanderdriftenden Gesellschaft entgegenzuwirken. \nIm Fokus stehen Ansätze\, die soziale Teilhabe und inklusive Ansätze sowie Zugänglichkeit im Gesundheitswesen zum Thema haben\, innovative Methoden wie digitale Tools oder Design Thinking zur Programmentwicklung nutzen und politische sowie gesellschaftliche Dimensionen von gesundheitlicher Teilhabe beleuchten. \n› Webseite
URL:https://www.sages.ch/agenda/60-jahrestagung-der-deutschen-gesellschaft-fuer-sozialmedizin-und-praevention-dgsmp-teilhabe-und-ko-kreation/
LOCATION:Charité Campus Virchow-Klinikum\, Augustenburger Platz 1\, 13353 Berlin\, Germany
CATEGORIES:Deutsch
END:VEVENT
BEGIN:VEVENT
DTSTART;TZID=Europe/Zurich:20250917T083000
DTEND;TZID=Europe/Zurich:20250917T162500
DTSTAMP:20260421T235742
CREATED:20250523T063359Z
LAST-MODIFIED:20250523T063359Z
UID:10317-1758097800-1758126300@www.sages.ch
SUMMARY:22. Schweizerischer Case Management-Kongress: «Megatrends: Auswirkungen und Herausforderungen für das Case Management»
DESCRIPTION:Zukunftsstress\, angespannte Weltlage\, kontinuierlicher Anstieg psychischer Belastungen\, zunehmende Komplexität – die Case Management-Fachwelt steht vor neuen Aufgaben. Am 22. Schweizerischen Case Management-Kongress diskutieren wir\, welche Chancen und Herausforderungen diese Entwicklungen für die Praxis bedeuten. Im Fokus stehen zentrale Megatrends und ihre Implikationen für das Case Management von morgen. Dabei werden die wesentlichen Unterschiede zwischen dem Case Management 2025 und 2050 beleuchtet.\nDer Kongress soll Sie darin unterstützen sich proaktiv auf kommende Veränderungen vorzubereiten und Ihre strategische Kompetenz stärken\, um den Wandel in der Praxis gezielt mitzugestalten. Entdecken Sie die Megatrends\, die für Ihre Arbeit besonders relevant sind und erhalten Sie wertvolle Impulse für eine zukunftsorientierte und resiliente Arbeitsweise. \nSAGES ist Kooperationspartner der Tagung\, unsere Mitglieder profitieren dabei von vergünstigten Teilnahmekonditionen. \n› Programm \n› Zur Tagungswebseite
URL:https://www.sages.ch/agenda/22-schweizerischer-case-management-kongress-megatrends-auswirkungen-und-herausforderungen-fuer-das-case-management/
LOCATION:Welle 7\, Schanzenstrasse 5\, Bern\, 3008\, Schweiz
CATEGORIES:Deutsch
ORGANIZER;CN="Netzwerk Case Management Schweiz":MAILTO:info@netzwerk-cm.ch
END:VEVENT
END:VCALENDAR