BEGIN:VCALENDAR
VERSION:2.0
PRODID:-//SAGES - ECPv6.15.17.1//NONSGML v1.0//EN
CALSCALE:GREGORIAN
METHOD:PUBLISH
X-WR-CALNAME:SAGES
X-ORIGINAL-URL:https://www.sages.ch
X-WR-CALDESC:Veranstaltungen für SAGES
REFRESH-INTERVAL;VALUE=DURATION:PT1H
X-Robots-Tag:noindex
X-PUBLISHED-TTL:PT1H
BEGIN:VTIMEZONE
TZID:Europe/Zurich
BEGIN:DAYLIGHT
TZOFFSETFROM:+0100
TZOFFSETTO:+0200
TZNAME:CEST
DTSTART:20240331T010000
END:DAYLIGHT
BEGIN:STANDARD
TZOFFSETFROM:+0200
TZOFFSETTO:+0100
TZNAME:CET
DTSTART:20241027T010000
END:STANDARD
BEGIN:DAYLIGHT
TZOFFSETFROM:+0100
TZOFFSETTO:+0200
TZNAME:CEST
DTSTART:20250330T010000
END:DAYLIGHT
BEGIN:STANDARD
TZOFFSETFROM:+0200
TZOFFSETTO:+0100
TZNAME:CET
DTSTART:20251026T010000
END:STANDARD
BEGIN:DAYLIGHT
TZOFFSETFROM:+0100
TZOFFSETTO:+0200
TZNAME:CEST
DTSTART:20260329T010000
END:DAYLIGHT
BEGIN:STANDARD
TZOFFSETFROM:+0200
TZOFFSETTO:+0100
TZNAME:CET
DTSTART:20261025T010000
END:STANDARD
END:VTIMEZONE
BEGIN:VEVENT
DTSTART;TZID=Europe/Zurich:20250925T140000
DTEND;TZID=Europe/Zurich:20250925T160000
DTSTAMP:20260421T235902
CREATED:20250829T091130Z
LAST-MODIFIED:20250829T091137Z
UID:10698-1758808800-1758816000@www.sages.ch
SUMMARY:Lebensübergänge im Alter – kritische Ereignisse  erkennen und gestalten
DESCRIPTION:Das Älterwerden bringt grosse Veränderungen mit sich. Übergänge wie der Eintritt in den Ruhestand\, der Verlust nahestehender Menschen oder der Umgang mit Pflegebedürftigkeit stellen nicht nur die Betroffenen vor grosse Herausforderungen\, sondern fordern auch Angehörige und Fachpersonen in der Begleitung und Betreuung. Hinzu kommen erhöhte Risiken für psychische und physische Erkrankungen. Woran erkennen wir\, dass ein Übergang zur Krise wird? Wann braucht es gezielte Unterstützung oder eine therapeutische Intervention? Die Veranstaltung bietet praxisnahe Einblicke in Risikofaktoren\, Schutzfaktoren und Unterstützungsangebote bei kritischen Lebensereignissen im Alter. Sie lädt dazu ein\, sich diesem vielschichtigen Thema gemeinsam zu nähern und schafft Raum für fachlichen Austausch. \n› Flyer
URL:https://www.sages.ch/agenda/lebensuebergaenge-im-alter-kritische-ereignisse-erkennen-und-gestalten/
LOCATION:Alters- und Pflegezentrum Bruggwiesen\, Märtplatz 19\, Effretikon
CATEGORIES:Deutsch
END:VEVENT
END:VCALENDAR