BEGIN:VCALENDAR
VERSION:2.0
PRODID:-//SAGES - ECPv6.15.17.1//NONSGML v1.0//EN
CALSCALE:GREGORIAN
METHOD:PUBLISH
X-ORIGINAL-URL:https://www.sages.ch
X-WR-CALDESC:Veranstaltungen für SAGES
REFRESH-INTERVAL;VALUE=DURATION:PT1H
X-Robots-Tag:noindex
X-PUBLISHED-TTL:PT1H
BEGIN:VTIMEZONE
TZID:Europe/Zurich
BEGIN:DAYLIGHT
TZOFFSETFROM:+0100
TZOFFSETTO:+0200
TZNAME:CEST
DTSTART:20240331T010000
END:DAYLIGHT
BEGIN:STANDARD
TZOFFSETFROM:+0200
TZOFFSETTO:+0100
TZNAME:CET
DTSTART:20241027T010000
END:STANDARD
BEGIN:DAYLIGHT
TZOFFSETFROM:+0100
TZOFFSETTO:+0200
TZNAME:CEST
DTSTART:20250330T010000
END:DAYLIGHT
BEGIN:STANDARD
TZOFFSETFROM:+0200
TZOFFSETTO:+0100
TZNAME:CET
DTSTART:20251026T010000
END:STANDARD
BEGIN:DAYLIGHT
TZOFFSETFROM:+0100
TZOFFSETTO:+0200
TZNAME:CEST
DTSTART:20260329T010000
END:DAYLIGHT
BEGIN:STANDARD
TZOFFSETFROM:+0200
TZOFFSETTO:+0100
TZNAME:CET
DTSTART:20261025T010000
END:STANDARD
END:VTIMEZONE
BEGIN:VEVENT
DTSTART;VALUE=DATE:20251112
DTEND;VALUE=DATE:20251114
DTSTAMP:20260421T205730
CREATED:20241122T141817Z
LAST-MODIFIED:20250924T143314Z
UID:9555-1762916400-1763002799@www.sages.ch
SUMMARY:4. Nationale SAGES - Fachtagung: «Methodenvielfalt: gute Praxis weiterdenken»
DESCRIPTION:Am Mittwoch\, 12. November 2025 findet an der FHNW in Olten die 4. Nationale SAGES-Fachtagung statt. Die Fachtagung\, welche zweisprachig abgehalten wird (d/f)\, bietet Fachpersonen der gesundheitsbezogenen Sozialen Arbeit eine Plattform zum Erfahrungsaustausch und die Möglichkeit\, innovative Ansätze zu erkunden. Seien Sie dabei und lassen Sie uns gemeinsam gute Praxis weiterdenken und voneinander lernen.\nIn diesem Jahr steht das methodische Handeln im Fokus. Methodisches Handeln? Ja!\nDer Begriff des methodischen Handelns ist facettenreich und es allemal wert\, ihm eine eigene Fachtagung zu widmen. Ob wir gut und richtig handeln können\, ist von zahlreichen Faktoren abhängig\, zum Beispiel den Techniken der Beziehungsgestaltung\, den institutionellen Rahmenbedingungen oder den persönlichen Überzeugungen. In der diesjährigen Veranstaltung wollen wir uns anhand eines umfangreichen Angebots an Keynotes und Workshops mit der gesamten Bandbreite «guter Praxis» auseinandersetzen. Es erwarten Sie viele anwendungsbezogene Beiträge\, angefangen vom alltäglichen Umgang mit ethischen Dilemmata bis hin zu neuen Verfahren der Bedarfserfassung. \nNutzen Sie die Gelegenheit\, wertvolle Impulse für Ihren Praxisalltag zu gewinnen und sich mit Kolleginnen und Kollegen aus dem gesamten Fachgebiet zu vernetzen. Die Fachtagung richtet sich auch an interessierte Personen\, die nicht im Bereich der gesundheitsbezogenen Sozialen Arbeit tätig sind. Wir freuen uns auf Ihre Teilnahme und einen inspirierenden Austausch. \n› Programm\n› Zur Anmeldung
URL:https://www.sages.ch/agenda/4-nationale-sages-fachtagung/
LOCATION:Fachhochschule Nordwestschweiz FHNW\, Hochschule für Soziale Arbeit\, Von Rollstrasse 10\, Olten\, 4600\, Schweiz
CATEGORIES:Deutsch,Französisch
END:VEVENT
END:VCALENDAR