BEGIN:VCALENDAR
VERSION:2.0
PRODID:-//SAGES - ECPv6.15.17.1//NONSGML v1.0//EN
CALSCALE:GREGORIAN
METHOD:PUBLISH
X-WR-CALNAME:SAGES
X-ORIGINAL-URL:https://www.sages.ch
X-WR-CALDESC:Veranstaltungen für SAGES
REFRESH-INTERVAL;VALUE=DURATION:PT1H
X-Robots-Tag:noindex
X-PUBLISHED-TTL:PT1H
BEGIN:VTIMEZONE
TZID:Europe/Zurich
BEGIN:DAYLIGHT
TZOFFSETFROM:+0100
TZOFFSETTO:+0200
TZNAME:CEST
DTSTART:20240331T010000
END:DAYLIGHT
BEGIN:STANDARD
TZOFFSETFROM:+0200
TZOFFSETTO:+0100
TZNAME:CET
DTSTART:20241027T010000
END:STANDARD
BEGIN:DAYLIGHT
TZOFFSETFROM:+0100
TZOFFSETTO:+0200
TZNAME:CEST
DTSTART:20250330T010000
END:DAYLIGHT
BEGIN:STANDARD
TZOFFSETFROM:+0200
TZOFFSETTO:+0100
TZNAME:CET
DTSTART:20251026T010000
END:STANDARD
BEGIN:DAYLIGHT
TZOFFSETFROM:+0100
TZOFFSETTO:+0200
TZNAME:CEST
DTSTART:20260329T010000
END:DAYLIGHT
BEGIN:STANDARD
TZOFFSETFROM:+0200
TZOFFSETTO:+0100
TZNAME:CET
DTSTART:20261025T010000
END:STANDARD
END:VTIMEZONE
BEGIN:VEVENT
DTSTART;TZID=Europe/Zurich:20251119T140000
DTEND;TZID=Europe/Zurich:20251119T160000
DTSTAMP:20260421T203838
CREATED:20251031T085021Z
LAST-MODIFIED:20251031T085100Z
UID:10871-1763560800-1763568000@www.sages.ch
SUMMARY:Schizophrenie verstehen: Ursachen\, Behandlung +  Unterstützung
DESCRIPTION:Schizophrenie ist eine komplexe psychische Erkrankung\, die durch das Zusammenspiel verschiedener Risiko- und Schutzfaktoren entsteht. Sie beeinflusst das Denken\, Fühlen und Verhalten und kann es Betroffenen er schweren\, die Realität und die eigene Wahrnehmungen zu unterscheiden. Wichtig ist: Schizophrenie ist behandelbar. Frühzeitige Intervention und kontinuierliche Begleitung erhöhen die Chancen auf Stabilisierung. Die Veranstaltung vermittelt praxisnah\, wie erste Anzeichen erkannt\, Krankheitsverläufe verstanden\, eine gelingende Kommunikation gestaltet und konkrete Unterstützungsangebote im Alltag genutzt werden können. \n› Flyer
URL:https://www.sages.ch/agenda/schizophrenie-verstehen-ursachen-behandlung-unterstuetzung/
LOCATION:Integrierte Psychiatrie Winterthur\, Zürcher Unterland – Klinik Schlosstal\, Wieshofstrasse 102\, Winterthur\, 8408\, Schweiz
CATEGORIES:Deutsch
END:VEVENT
END:VCALENDAR