BEGIN:VCALENDAR
VERSION:2.0
PRODID:-//SAGES - ECPv6.15.17.1//NONSGML v1.0//EN
CALSCALE:GREGORIAN
METHOD:PUBLISH
X-WR-CALNAME:SAGES
X-ORIGINAL-URL:https://www.sages.ch
X-WR-CALDESC:Veranstaltungen für SAGES
REFRESH-INTERVAL;VALUE=DURATION:PT1H
X-Robots-Tag:noindex
X-PUBLISHED-TTL:PT1H
BEGIN:VTIMEZONE
TZID:Europe/Zurich
BEGIN:DAYLIGHT
TZOFFSETFROM:+0100
TZOFFSETTO:+0200
TZNAME:CEST
DTSTART:20250330T010000
END:DAYLIGHT
BEGIN:STANDARD
TZOFFSETFROM:+0200
TZOFFSETTO:+0100
TZNAME:CET
DTSTART:20251026T010000
END:STANDARD
BEGIN:DAYLIGHT
TZOFFSETFROM:+0100
TZOFFSETTO:+0200
TZNAME:CEST
DTSTART:20260329T010000
END:DAYLIGHT
BEGIN:STANDARD
TZOFFSETFROM:+0200
TZOFFSETTO:+0100
TZNAME:CET
DTSTART:20261025T010000
END:STANDARD
BEGIN:DAYLIGHT
TZOFFSETFROM:+0100
TZOFFSETTO:+0200
TZNAME:CEST
DTSTART:20270328T010000
END:DAYLIGHT
BEGIN:STANDARD
TZOFFSETFROM:+0200
TZOFFSETTO:+0100
TZNAME:CET
DTSTART:20271031T010000
END:STANDARD
BEGIN:DAYLIGHT
TZOFFSETFROM:+0100
TZOFFSETTO:+0200
TZNAME:CEST
DTSTART:20280326T010000
END:DAYLIGHT
BEGIN:STANDARD
TZOFFSETFROM:+0200
TZOFFSETTO:+0100
TZNAME:CET
DTSTART:20281029T010000
END:STANDARD
END:VTIMEZONE
BEGIN:VEVENT
DTSTART;VALUE=DATE:20260101
DTEND;VALUE=DATE:20270103
DTSTAMP:20260421T140109
CREATED:20220513T111208Z
LAST-MODIFIED:20260213T072316Z
UID:6068-1767236400-1798858799@www.sages.ch
SUMMARY:HIN Academy: Datenschutz und IT-Sicherheit im Gesundheitswesen
DESCRIPTION:Im Rahmen der Digitalisierung nehmen Cyberattacken stetig zu und es ist zunehmend herausfordernd\, dem Datenschutz jederzeit Rechnung zu tragen. Das Ziel der HIN Academy ist es deshalb\, für den sicheren Umgang mit Gesundheitsdaten zu sensibilisieren. HIN zeigt auf\, dass die Themen Datenschutz und IT-Sicherheit alle Akteure des Gesundheits- und Sozialwesens betreffen und schaffen ein nachhaltiges Bewusstsein für den sorgfältigen Umgang mit besonders schützenswerten Daten. \n› HIN Awareness Schulungen kennenlernen
URL:https://www.sages.ch/agenda/hin-academy-datenschutz-und-it-sicherheit-im-gesundheitswesen/
CATEGORIES:Weiterbildungen
ORGANIZER;CN="Health Info Net AG":MAILTO:info@hin.ch
END:VEVENT
BEGIN:VEVENT
DTSTART;TZID=Europe/Zurich:20260309T084500
DTEND;TZID=Europe/Zurich:20260309T164500
DTSTAMP:20260421T140109
CREATED:20250919T110015Z
LAST-MODIFIED:20260116T065848Z
UID:10803-1773045900-1773074700@www.sages.ch
SUMMARY:2. Fachtagung Soziale Arbeit und Sucht – Wege zur Verbesserung der Lebensqualität
DESCRIPTION:Die Fachtagung findet im Rahmen des Programms Stärkung der Sozialen Dimension in der Suchthilfe statt. Sie widmet sich der zentralen Frage\, wie Soziale Arbeit in koordinierter Zusammenarbeit mit der Suchtmedizin und Suchttherapie zur Verbesserung der Lebensqualität von suchtbetroffenen und -gefährdeten Menschen sowie ihrer Angehörigen beitragen kann. Aus unterschiedlichen fachlichen Perspektiven – Praxis\, Ethik\, Wissenschaft und Wirkungsforschung – beleuchtet die Fachtagung\, wie Lebensqualität verstanden\, gefördert und gemessen werden kann. \nIn Workshops und Diskussionsforen werden konkrete Methoden\, Handlungsansätze und Dilemmata in Zusammenhang mit Möglichkeiten zur Verbesserung der Lebensqualität von Menschen mit Suchtproblematiken und deren Angehörigen thematisiert: Wie lassen sich Ressourcen aktivieren\, Autonomie respektieren und gleichzeitig notwendige Unterstützung sicherstellen? \nSAGES ist Mitorganisator der Fachtagung. \n› Zum Programm \n› Tagungswebseite\n› Zur Anmeldung
URL:https://www.sages.ch/agenda/2-fachtagung-soziale-arbeit-und-sucht-wege-zur-verbesserung-der-lebensqualitaet/
LOCATION:Fachhochschule Nordwestschweiz FHNW\, Hochschule für Soziale Arbeit\, Von Rollstrasse 10\, Olten\, 4600\, Schweiz
CATEGORIES:Deutsch
END:VEVENT
BEGIN:VEVENT
DTSTART;TZID=Europe/Zurich:20260309T171500
DTEND;TZID=Europe/Zurich:20260309T190000
DTSTAMP:20260421T140109
CREATED:20260130T143801Z
LAST-MODIFIED:20260130T143810Z
UID:11252-1773076500-1773082800@www.sages.ch
SUMMARY:Allianz Gesunder Kanton Bern: «Eine Vision für eine menschenzentrierte\, ganzheitliche Gesundheitsversorgung»
DESCRIPTION:Bei Fachleuten und in der Wissenschaft besteht Einigkeit\, dass Gesundheit aus dem Zusammenspiel körperlicher\, psychischer und sozialer Faktoren entsteht. Psychische oder familiäre Belastungen können dazu führen\, dass sich körperlich gesunde Menschen krank fühlen oder Krankheiten chronisch werden. Dennoch wird die Gesundheitsversorgung diesem ganzheitlichen Verständnis oft nicht gerecht. Psychosoziale Angebote werden insbesondere im stationären Bereich abgebaut und im ambulanten Bereich kaum finanziert. Ziel des Abends ist\, mit Expert:innen Lösungsansätze für eine menschenzentrierte und ganzheitliche Gesundheitsversorgung zu diskutieren. \n› Flyer
URL:https://www.sages.ch/agenda/allianz-gesunder-kanton-bern-eine-vision-fuer-eine-menschenzentrierte-ganzheitliche-gesundheitsversorgung/
LOCATION:Hotel Bern\, Zeughausgasse 9\, 3011 Bern\, Schweiz
CATEGORIES:Deutsch
END:VEVENT
END:VCALENDAR