BEGIN:VCALENDAR
VERSION:2.0
PRODID:-//SAGES - ECPv6.15.17.1//NONSGML v1.0//EN
CALSCALE:GREGORIAN
METHOD:PUBLISH
X-WR-CALNAME:SAGES
X-ORIGINAL-URL:https://www.sages.ch
X-WR-CALDESC:Veranstaltungen für SAGES
REFRESH-INTERVAL;VALUE=DURATION:PT1H
X-Robots-Tag:noindex
X-PUBLISHED-TTL:PT1H
BEGIN:VTIMEZONE
TZID:Europe/Zurich
BEGIN:DAYLIGHT
TZOFFSETFROM:+0100
TZOFFSETTO:+0200
TZNAME:CEST
DTSTART:20250330T010000
END:DAYLIGHT
BEGIN:STANDARD
TZOFFSETFROM:+0200
TZOFFSETTO:+0100
TZNAME:CET
DTSTART:20251026T010000
END:STANDARD
BEGIN:DAYLIGHT
TZOFFSETFROM:+0100
TZOFFSETTO:+0200
TZNAME:CEST
DTSTART:20260329T010000
END:DAYLIGHT
BEGIN:STANDARD
TZOFFSETFROM:+0200
TZOFFSETTO:+0100
TZNAME:CET
DTSTART:20261025T010000
END:STANDARD
BEGIN:DAYLIGHT
TZOFFSETFROM:+0100
TZOFFSETTO:+0200
TZNAME:CEST
DTSTART:20270328T010000
END:DAYLIGHT
BEGIN:STANDARD
TZOFFSETFROM:+0200
TZOFFSETTO:+0100
TZNAME:CET
DTSTART:20271031T010000
END:STANDARD
BEGIN:DAYLIGHT
TZOFFSETFROM:+0100
TZOFFSETTO:+0200
TZNAME:CEST
DTSTART:20280326T010000
END:DAYLIGHT
BEGIN:STANDARD
TZOFFSETFROM:+0200
TZOFFSETTO:+0100
TZNAME:CET
DTSTART:20281029T010000
END:STANDARD
END:VTIMEZONE
BEGIN:VEVENT
DTSTART;VALUE=DATE:20260101
DTEND;VALUE=DATE:20270103
DTSTAMP:20260420T101111
CREATED:20220513T111208Z
LAST-MODIFIED:20260213T072316Z
UID:6068-1767236400-1798858799@www.sages.ch
SUMMARY:HIN Academy: Datenschutz und IT-Sicherheit im Gesundheitswesen
DESCRIPTION:Im Rahmen der Digitalisierung nehmen Cyberattacken stetig zu und es ist zunehmend herausfordernd\, dem Datenschutz jederzeit Rechnung zu tragen. Das Ziel der HIN Academy ist es deshalb\, für den sicheren Umgang mit Gesundheitsdaten zu sensibilisieren. HIN zeigt auf\, dass die Themen Datenschutz und IT-Sicherheit alle Akteure des Gesundheits- und Sozialwesens betreffen und schaffen ein nachhaltiges Bewusstsein für den sorgfältigen Umgang mit besonders schützenswerten Daten. \n› HIN Awareness Schulungen kennenlernen
URL:https://www.sages.ch/agenda/hin-academy-datenschutz-und-it-sicherheit-im-gesundheitswesen/
CATEGORIES:Weiterbildungen
ORGANIZER;CN="Health Info Net AG":MAILTO:info@hin.ch
END:VEVENT
BEGIN:VEVENT
DTSTART;TZID=Europe/Zurich:20260421T123000
DTEND;TZID=Europe/Zurich:20260421T133000
DTSTAMP:20260420T101111
CREATED:20260116T102736Z
LAST-MODIFIED:20260320T133153Z
UID:11206-1776774600-1776778200@www.sages.ch
SUMMARY:Webinarreihe social prescribing heute – Wissen\, Wirkung und Umsetzung
DESCRIPTION:Das soziale Rezept ist ein Mittel für Gesundheitsfachkräfte\, um Patienten und Patientinnen mit einer Reihe von nicht medizinischen Dienstleistungen in der Gemeinde in Verbindung zu bringen\, um ihre Gesundheit und ihr Wohlbefinden zu verbessern. \nDies kann dazu beitragen\, die zugrunde liegenden Ursachen für Probleme auf Ebene der Gesundheit und des Wohlbefindens anzugehen\, anstatt nur die Symptome zu behandeln. \nDie Webinarreihe ist ein Angebot von SAGES und fmc. \n› Zur Anmeldung \nDaten und Themen:\n\n\n\n\n21. April 2026 | 12h30 bis 13h30 | Auf Deutsch mit französischer Verdolmetschung*\nSo funktioniert Social Prescribing: Praxisbeispiele aus der Schweiz\n\n\n\n\n\n\n\n\n19. Mai 2026 | 12h30 bis 13h30 | Auf Deutsch mit französischer Verdolmetschung*\nSocial Prescribing fördern – wie gelingt das in der Schweiz?\n\n\n\n\n* Die Verdolmetschung wird organisiert\, wenn 10 oder mehr französischsprachige Personen angemeldet sind. \n\n\n\n\n› Zur Anmeldung \n› Flyer
URL:https://www.sages.ch/agenda/webinarreihe-social-prescribing-heute-wissen-wirkung-und-umsetzung-2/
CATEGORIES:Deutsch,Französisch
END:VEVENT
BEGIN:VEVENT
DTSTART;TZID=Europe/Zurich:20260506T130000
DTEND;TZID=Europe/Zurich:20260506T170000
DTSTAMP:20260420T101111
CREATED:20260417T140043Z
LAST-MODIFIED:20260417T140050Z
UID:11620-1778072400-1778086800@www.sages.ch
SUMMARY:Fachtagung: Psychische Gesundheit von Geflüchteten stärken
DESCRIPTION:Die Tagung widmet sich dem Thema „Psychische Gesundheit von Geflüchteten in der Schweiz stärken“ und bietet ein vielfältiges Programm mit spannenden Fachinputs\, unterschiedlichen Gastreferierenden sowie interaktiven zielgruppenspezifischen Workshops. \n Gerade im Arbeitsalltag stellen sich oft komplexe fachliche Fragen. Die Tagung bietet die Möglichkeit\, solche Fragestellungen gemeinsam mit Fachpersonen aus dem gleichen und ähnlichen Arbeitsfeldern zu reflektieren und neue Perspektiven zu gewinnen. \n› Webseite
URL:https://www.sages.ch/agenda/fachtagung-psychische-gesundheit-von-gefluechteten-staerken/
LOCATION:ZHAW\, Campus Toni-Areal\, Pfingstweidstrasse 96\, Zürich\, 8005\, Schweiz
CATEGORIES:Deutsch
END:VEVENT
BEGIN:VEVENT
DTSTART;TZID=Europe/Zurich:20260512T090000
DTEND;TZID=Europe/Zurich:20260512T160000
DTSTAMP:20260420T101111
CREATED:20251121T133831Z
LAST-MODIFIED:20260306T061533Z
UID:11015-1778576400-1778601600@www.sages.ch
SUMMARY:Einsamkeit im Fokus - Einsamkeitsphänomene in der Sozialen Arbeit erkennen und ihnen professionell begegnen
DESCRIPTION:Weltweit berichten rund 20 Prozent aller Menschen von schwer auszuhaltenden Erfahrungen der Einsamkeit. Darunter wird ein subjektiv wahrgenommener Mangel an quantitativen und/oder qualitativen Aspekten eigener sozialer Beziehungen verstanden. Einsamkeit wirkt sich negativ auf Gesundheit und Wohlbefinden aus. Vor allem im Kontext andauernder Unsicherheit durch gesellschaftliche Krisen und der damit einhergehenden Auflösung sozialer und politischer Strukturen hat Einsamkeit zahlreiche Facetten angenommen\, die über die gesamte Lebensspanne hinausreichen. Mittlerweile sind verschiedene Einsamkeitsphänomene bekannt\, beispielsweise bei Kindern und Jugendlichen im Zusammenhang mit der COVID-19-Pandemie\, bei Menschen mit depressiven Erkrankungen\, bei gesellschaftlichen Minderheiten im Zuge zunehmender Stigmatisierung und Ausgrenzung oder im Alter. Trotz zahlreicher Erkenntnisse über die Folgen wird die Bedeutung von Einsamkeit für ein gesundes Leben in der Bevölkerung weiterhin häufig relativiert. \nDas European Centre for Clinical Social Work e.V. (ECCSW) lädt daher am 12. Mai 2026 unter dem Motto „Einsamkeit im Fokus – Einsamkeitsphänomene in der Sozialen Arbeit erkennen und ihnen professionell begegnen“ zu einer kostenfreien Onlinefachtagung ein. \nSAGES ist Kooperationspartner der Fachtagung. \n› Webseite\n› Flyer
URL:https://www.sages.ch/agenda/save-the-date-call-einsamkeit-im-fokus-einsamkeitsphaenomene-in-der-sozialen-arbeit-erkennen-und-ihnen-professionell-begegnen/
LOCATION:Online
CATEGORIES:Deutsch
ORGANIZER;CN="ECCSW%3A European Centre for Clinical Social Work":MAILTO:info@eccsw.eu
END:VEVENT
BEGIN:VEVENT
DTSTART;TZID=Europe/Zurich:20260513T150000
DTEND;TZID=Europe/Zurich:20260513T170000
DTSTAMP:20260420T101111
CREATED:20241220T094508Z
LAST-MODIFIED:20260306T101659Z
UID:9649-1778684400-1778691600@www.sages.ch
SUMMARY:9. SAGES-Mitgliederversammlung 2026
DESCRIPTION:Am Mittwoch\, 13. Mai 2026 findet die 9. SAGES-Mitgliederversammlung in Olten statt. Auch dieses Jahr bieten wir eine Online-Teilnahme via Zoom an\, welche auf einem zusätzlichen Kanal simultanübersetzt wird (f).\nNeben den SAGES-Statuten und dem Geschäftsreglement\, welche im Rahmen der neuen Verbandsstruktur überarbeitet wurden\, wird auch die «Charta Gesundheitsbezogene Soziale Arbeit»\, welche in Zusammenarbeit mit dem Berufsverband AvenirSocial ausgearbeitet wurde\, verabschiedet.\nAbgerundet wird unsere Mitgliederversammlung von einem Apéro riche\, zu welchem alle Teilnehmer:innen vor Ort herzlich eingeladen sind. \n› Zur Anmeldung
URL:https://www.sages.ch/agenda/9-sages-mitgliederversammlung-2026/
LOCATION:Fachhochschule Nordwestschweiz FHNW\, Hochschule für Soziale Arbeit\, Von Rollstrasse 10\, Olten\, 4600\, Schweiz
CATEGORIES:Deutsch,Französisch
END:VEVENT
BEGIN:VEVENT
DTSTART;TZID=Europe/Zurich:20260519T123000
DTEND;TZID=Europe/Zurich:20260519T133000
DTSTAMP:20260420T101111
CREATED:20260116T102927Z
LAST-MODIFIED:20260313T075327Z
UID:11210-1779193800-1779197400@www.sages.ch
SUMMARY:Webinarreihe social prescribing heute – Wissen\, Wirkung und Umsetzung
DESCRIPTION:Das soziale Rezept ist ein Mittel für Gesundheitsfachkräfte\, um Patienten und Patientinnen mit einer Reihe von nicht medizinischen Dienstleistungen in der Gemeinde in Verbindung zu bringen\, um ihre Gesundheit und ihr Wohlbefinden zu verbessern. \nDies kann dazu beitragen\, die zugrunde liegenden Ursachen für Probleme auf Ebene der Gesundheit und des Wohlbefindens anzugehen\, anstatt nur die Symptome zu behandeln. \nDie Webinarreihe ist ein Angebot von SAGES und fmc. \n› Zur Anmeldung \nDaten und Themen:\n\n\n\n\n4. März 2026 | 12h30 bis 13h30 | Auf Englisch\nSocial Prescribing verstehen: Was wir heute wissen\n\n\n\n\n\n\n\n\n21. April 2026 | 12h30 bis 13h30 | Auf Deutsch mit französischer Verdolmetschung*\nSo funktioniert Social Prescribing: Praxisbeispiele aus der Schweiz\n\n\n\n\n\n\n\n\n19. Mai 2026 | 12h30 bis 13h30 | Auf Deutsch mit französischer Verdolmetschung*\nSocial Prescribing fördern – wie gelingt das in der Schweiz?\n\n\n\n\n* Die Verdolmetschung wird organisiert\, wenn 10 oder mehr französischsprachige Personen angemeldet sind. \n\n\n\n\n› Zur Anmeldung \n› Flyer
URL:https://www.sages.ch/agenda/webinarreihe-social-prescribing-heute-wissen-wirkung-und-umsetzung-3/
CATEGORIES:Deutsch,Französisch
END:VEVENT
BEGIN:VEVENT
DTSTART;TZID=Europe/Zurich:20260521T123000
DTEND;TZID=Europe/Zurich:20260521T163000
DTSTAMP:20260420T101111
CREATED:20260313T082911Z
LAST-MODIFIED:20260313T083508Z
UID:11530-1779366600-1779381000@www.sages.ch
SUMMARY:Spotlight-Veranstaltung «Essen im Alter» - GERONTOLOGIE CH
DESCRIPTION:GERONTOLOGIE CH lädt zur ersten Spotlight-Veranstaltung ein\, die sich ganz dem Thema «Essen im Alter» widmet. Essen ist weit mehr als reine Nahrungsaufnahme – es verbindet Menschen\, weckt Erinnerungen und stiftet Lebensqualität. Doch wie verändert sich unser Essverhalten im Alter? Welche Rolle spielen Genuss und gesellschaftliche Teilhabe\, wenn sich die Gesundheit\, der Appetit oder die Lebensumstände verändern? Expertinnen und Experten beleuchten das Thema aus verschiedensten Blickwinkeln. \nSAGES ist Kooperationspartner der Veranstaltung\, unsere Mitglieder profitieren von vergünstigten Teilnahmekonditionen. \n› Webseite
URL:https://www.sages.ch/agenda/spotlight-veranstaltung-essen-im-alter/
LOCATION:Allresto Kongresszentrum Bern\, Effingerstrasse 20\, Bern\, 3008
CATEGORIES:Deutsch,Französisch
ORGANIZER;CN="GERONTOLOGIE CH":MAILTO:info@gerontologie.ch
END:VEVENT
BEGIN:VEVENT
DTSTART;TZID=Europe/Zurich:20260529T080000
DTEND;TZID=Europe/Zurich:20260529T170000
DTSTAMP:20260420T101111
CREATED:20260206T131621Z
LAST-MODIFIED:20260220T071644Z
UID:11262-1780041600-1780074000@www.sages.ch
SUMMARY:CAS Gartentherapie
DESCRIPTION:Wissenschaftliche Studien zeigen: Gartentherapie kann das Wohlbefinden verbessern. In diesem CAS lernen Sie\, gartentherapeutische Aktivitäten zu entwickeln und umzusetzen. Zudem erwerben Sie die Kompetenz\, Pflanzen für therapeutische Interventionen gezielt einzusetzen. Gesundheit erhalten und fördern mit Gartentherapie: Das ist immer mehr gefragt. \n› Webseite
URL:https://www.sages.ch/agenda/cas-gartentherapie/
LOCATION:Zürcher Hochschule für Angewandte Wissenschaften ZHAW Institut für Umwelt und Natürliche Ressourcen IUNR\, Grüentalstrasse 14\, Wädenswil\, 8820
CATEGORIES:Weiterbildungen
END:VEVENT
BEGIN:VEVENT
DTSTART;TZID=Europe/Zurich:20260605T080000
DTEND;TZID=Europe/Zurich:20260605T170000
DTSTAMP:20260420T101111
CREATED:20260206T132529Z
LAST-MODIFIED:20260220T071612Z
UID:11275-1780646400-1780678800@www.sages.ch
SUMMARY:CAS Wald\, Landschaft & Gesundheit
DESCRIPTION:Wald und Landschaft sind gut für Körper und Geist. Das ist wissenschaftlich erwiesen. In diesem CAS lernen Sie die Technik der Waldtherapie und Landschaftstherapie. Und Sie erfahren\, wie Sie Waldbaden und Waldachtsamkeit gesundheitsfördernd einsetzen. Diese Weiterbildung eröffnet Ihnen neue Berufsmöglichkeiten im präventiven oder sozialen Bereich. \n› Webseite
URL:https://www.sages.ch/agenda/cas-wald-landschaft-gesundheit/
LOCATION:Zürcher Hochschule für Angewandte Wissenschaften ZHAW Institut für Umwelt und Natürliche Ressourcen IUNR\, Grüentalstrasse 14\, Wädenswil\, 8820
CATEGORIES:Weiterbildungen
END:VEVENT
BEGIN:VEVENT
DTSTART;VALUE=DATE:20260610
DTEND;VALUE=DATE:20260612
DTSTAMP:20260420T101111
CREATED:20260123T153454Z
LAST-MODIFIED:20260414T060959Z
UID:11235-1781060400-1781146799@www.sages.ch
SUMMARY:fmc-Symposium: «Patientinnen und Patienten in komplexen Versorgungssituationen»
DESCRIPTION:Das diesjährige fmc‑Symposium widmet sich der Frage\, wie komplexe Versorgungssituationen entstehen und wie sie interprofessionell und interorganisational bewältigt werden können. Im Zentrum steht ein systemischer Blick auf die bio‑psycho‑sozialen\, organisatorischen und gesellschaftlichen Faktoren\, die die Versorgung von Patientinnen und Patienten beeinflussen.\nSAGES beteiligt sich am Symposium mit einer Morning-Session zum Thema «Soziale Faktoren der Krankheit/Gesundheit: Identifikation und dann…?». \n› Webseite
URL:https://www.sages.ch/agenda/save-the-date-nationales-symposium-integrierte-versorgung-2026/
LOCATION:Eventforum/Eventfabrik\, Fabrikstrasse 12\, Bern
CATEGORIES:Deutsch,Französisch
END:VEVENT
BEGIN:VEVENT
DTSTART;VALUE=DATE:20260611
DTEND;VALUE=DATE:20260614
DTSTAMP:20260420T101111
CREATED:20251205T133803Z
LAST-MODIFIED:20260313T084829Z
UID:11089-1781146800-1781319599@www.sages.ch
SUMMARY:14. Fachtagung Klinische Soziale Arbeit «Begegnungen von analog bis digital»
DESCRIPTION:Die Gestaltung vertrauensvoller Arbeitsbeziehungen ist eine Grundlage bindungs- und ressourcenorientierter Interventionen in der Klinischen Sozialen Arbeit. Bisher beruhte diese Beziehungsarbeit fast ausschliesslich auf der persönlichen Begegnung zwischen den beteiligten Akteur:innen. Seit einiger Zeit prägen jedoch zunehmend digitale Formen der Interaktion unseren beruflichen Alltag – beispielsweise durch Online-Beratungen\, digitale Dokumentationssysteme\, Plattformen für interprofessionellen Austausch oder den Einsatz von Künstlicher Intelligenz (KI). Diese Entwicklungen werfen grundlegende Fragen auf: Inwieweit helfen uns digitale Tools\, den beruflichen Alltag zu entlasten? Wie sehr können digitale Tools Aufgaben in der professionellen Beratungs- und Beziehungsarbeit übernehmen? Wo liegen die Chancen? Welche Risiken bestehen? Und wo stossen wir an Grenzen? \nSAGES ist Kooperationspartner der Veranstaltung\, unsere Mitglieder profitieren von vergünstigten Teilnahmekonditionen. \n› Webseite
URL:https://www.sages.ch/agenda/14-fachtagung-klinische-soziale-arbeit-begegnungen-von-analog-bis-digital/
LOCATION:Fachhochschule Nordwestschweiz FHNW\, Hochschule für Soziale Arbeit\, Von Rollstrasse 10\, Olten\, 4600\, Schweiz
CATEGORIES:Deutsch
END:VEVENT
BEGIN:VEVENT
DTSTART;VALUE=DATE:20260618
DTEND;VALUE=DATE:20260620
DTSTAMP:20260420T101111
CREATED:20250919T112553Z
LAST-MODIFIED:20260320T103417Z
UID:10811-1781751600-1781837999@www.sages.ch
SUMMARY:6. Nationale Tagung Gesundheit & Armut:  Prekäre Arbeit\, prekäre Gesundheit: Wege aus neuen Formen sozialer Unsicherheit
DESCRIPTION:Die 6. nationale Tagung «Gesundheit & Armut» widmet sich den Folgen neuer Arbeitsverhältnisse für die physische und psychische Gesundheit. Flexibilisierung\, Digitalisierung und Globalisierung haben atypische Erwerbsformen hervorgebracht\, die soziale Unsicherheit und gesundheitliche Risiken verstärken können. \nDie Tagung bietet Raum für wissenschaftliche Beiträge\, politische Analysen und Praxisbeispiele aus Verwaltung\, NGOs und Selbstorganisationen. Gemeinsam diskutieren Expert*innen aus Wissenschaft\, Politik und Praxis\, welche Formen von Arbeit heute als prekär gelten\, wie sich soziale und gesundheitliche Absicherung verändert und welche Handlungsmöglichkeiten auf individueller\, institutioneller und politischer Ebene bestehen. \nSAGES ist Kooperationspartner der Tagung\, unsere Mitglieder profitieren von vergünstigten Teilnahmebedingungen. \n› Zur Tagungswebseite\n› Flyer\n› Video
URL:https://www.sages.ch/agenda/6-nationale-tagung-gesundheit-armut-prekaere-arbeit-prekaere-gesundheit-wege-aus-neuen-formen-sozialer-unsicherheit/
CATEGORIES:Deutsch,Französisch
END:VEVENT
BEGIN:VEVENT
DTSTART;TZID=Europe/Zurich:20260812T083000
DTEND;TZID=Europe/Zurich:20260812T113000
DTSTAMP:20260420T101111
CREATED:20180914T135727Z
LAST-MODIFIED:20251219T081017Z
UID:2031-1786523400-1786534200@www.sages.ch
SUMMARY:Treffen SAGES-Fachbereich Spital\, Sektion Zürich/Schaffhausen
DESCRIPTION:Bei Interesse an einer Teilnahme wenden Sie sich bitte an: \nKantonsspital Winterthur\, Sonja Tinner\, Leiterin Sozialberatung\, Tel. 052 266 21 23\, sonja.tinner@ksw.ch
URL:https://www.sages.ch/agenda/treffen-sages-fachbereich-spital-sektion-zuerich-schaffhausen-02-22/
CATEGORIES:Deutsch
ORGANIZER;CN="SAGES-Fachbereich Spital%2C Sektion Z%C3%BCrich/Schaffhausen":MAILTO:sonja.tinner@ksw.ch
END:VEVENT
BEGIN:VEVENT
DTSTART;TZID=Europe/Zurich:20260819T131500
DTEND;TZID=Europe/Zurich:20260819T164500
DTSTAMP:20260420T101111
CREATED:20190109T062534Z
LAST-MODIFIED:20260109T074813Z
UID:2423-1787145300-1787157900@www.sages.ch
SUMMARY:Treffen SAGES-Fachbereich Psychiatrie\, FKSP
DESCRIPTION:Bei Interesse an einer Teilnahme wenden Sie sich bitte an: \nPrivatklinik Meiringen\, Stefanie Rytz\, Telefon 033 972 82 72\, stefanie.rytz@privatklinik-meiringen.ch
URL:https://www.sages.ch/agenda/treffen-sages-fachbereich-psychiatrie-fksp-2/
CATEGORIES:Deutsch
ORGANIZER;CN="SAGES-Fachbereich Psychiatrie%2C FKSP":MAILTO:marlis.baumeler@pukzh.ch
END:VEVENT
BEGIN:VEVENT
DTSTART;TZID=Europe/Zurich:20260826T133000
DTEND;TZID=Europe/Zurich:20260826T153000
DTSTAMP:20260420T101111
CREATED:20200108T144310Z
LAST-MODIFIED:20260313T094436Z
UID:3865-1787751000-1787758200@www.sages.ch
SUMMARY:Treffen SAGES-Fachbereich Soziale Arbeit in der Arztpraxis
DESCRIPTION:Bei Interesse an einer Teilnahme wenden Sie sich bitte an: \nBerner Fachhochschule\, Soziale Arbeit\, René Rüegg\, Tel. 031 848 36 60\, rene.rueegg@bfh.ch
URL:https://www.sages.ch/agenda/treffen-sages-fachbereich-soziale-arbeit-in-der-arztpraxis/
CATEGORIES:Deutsch
ORGANIZER;CN="SAGES-Fachbereich Soziale Arbeit in der Arztpraxis":MAILTO:rene.rueegg@bfh.ch
END:VEVENT
BEGIN:VEVENT
DTSTART;TZID=Europe/Zurich:20260903T084500
DTEND;TZID=Europe/Zurich:20260903T163000
DTSTAMP:20260420T101111
CREATED:20260313T085904Z
LAST-MODIFIED:20260313T093437Z
UID:11548-1788425100-1788453000@www.sages.ch
SUMMARY:7. Nationale Fachtagung GERONTOLOGIE CH «Cool bleiben im Klimawandel – Altersfragen in heissen Zeiten»
DESCRIPTION:Die Folgen des Klimawandels treffen alle Generationen\, doch für ältere Menschen sind die gesundheitlichen Risiken besonders hoch. Was können Fachpersonen und Gemeinden tun\, um SeniorInnen bei Wetterextremen zu unterstützen? Wie reagiert das Schweizer Gesundheitssystem auf die Erderwärmung? Wie kann sich unsere Gesellschaft einer globalen Bedrohung wie dieser anpassen? Und wie bleiben Alt und Jung trotz Klimawandel resilient und handlungsfähig? Die Fachtagung widmet sich diesen vielschichtigen Herausforderungen und zeigt Handlungsansätze auf\, die in Zeiten des Klimawandels ein möglichst gutes und selbstbestimmtes Altern ermöglichen. \nSAGES ist Kooperationspartner der Veranstaltung\, unsere Mitglieder profitieren von vergünstigten Teilnahmekonditionen. \n› Webseite \n 
URL:https://www.sages.ch/agenda/7-nationale-fachtagung-gerontologie-ch-cool-bleiben-im-klimawandel-altersfragen-in-heissen-zeiten/
LOCATION:Hotel National\, Hirschengraben 24\, 3011 Bern
CATEGORIES:Deutsch,Französisch
ORGANIZER;CN="GERONTOLOGIE CH":MAILTO:info@gerontologie.ch
END:VEVENT
BEGIN:VEVENT
DTSTART;TZID=Europe/Zurich:20260907T080000
DTEND;TZID=Europe/Zurich:20260907T170000
DTSTAMP:20260420T101111
CREATED:20260130T140739Z
LAST-MODIFIED:20260220T073525Z
UID:11250-1788768000-1788800400@www.sages.ch
SUMMARY:CAS Gesundheitsförderung und Prävention: Grundlagen und Best Practice
DESCRIPTION:Gesundheitsförderung und Prävention werden ausführlich analysiert und praxisnah dargestellt. Dabei stehen gesundheitsfördernde Ansätze und die Verbindung von individuellen und strukturellen Einflussfaktoren auf die menschliche Gesundheit im Fokus. Nächster Start am 7. September 2026! \nDatum: 7. September 2026 – 25. Mai 2027\nOrt: Olten\nFachhochschule Nordwestschweiz FHNW\nRiggenbachstrasse 16\n4600 Olten \n› Webseite
URL:https://www.sages.ch/agenda/cas-gesundheitsfoerderung-und-praevention-grundlagen-und-best-practice/
LOCATION:Fachhochschule Nordwestschweiz FHNW\, Hochschule für Soziale Arbeit\, Von Rollstrasse 10\, Olten\, 4600\, Schweiz
CATEGORIES:Weiterbildungen
END:VEVENT
BEGIN:VEVENT
DTSTART;TZID=Europe/Zurich:20260915T130000
DTEND;TZID=Europe/Zurich:20260915T170000
DTSTAMP:20260420T101111
CREATED:20240412T064439Z
LAST-MODIFIED:20260417T061531Z
UID:8707-1789477200-1789491600@www.sages.ch
SUMMARY:Save the date: Treffpunkt Soziale Arbeit und Sucht: «Aufsuchende Suchthilfe: Quo Vadis?»
DESCRIPTION:Im Mittelpunkt der Veranstaltungen steht die Frage\, wie die erarbeiteten Empfehlungen für die Soziale Arbeit in der Suchthilfe und -prävention praxisnah umgesetzt und durch inspirierende Good-Practice-Beispiele veranschaulicht werden können. \nDer Treffpunk ist aus dem Programm «Stärkung der Sozialen Arbeit in der interdisziplinären Suchthilfe und -prävention» entstanden – ein Kooperationsprojekt zwischen der Hochschule für Soziale Arbeit FHNW\, AvenirSocial – Berufsverband Soziale Arbeit Schweiz\, dem Fachverband Sucht und SAGES. Im Kontext des Programms konnte Anfang 2024 die mit rund 80 Fachleuten erarbeiteten «Empfehlungen für die Soziale Arbeit in der Suchthilfe und- prävention» lancieren: www.mas-sucht.ch/empfehlungen \n› Webseite
URL:https://www.sages.ch/agenda/treffpunkt-soziale-arbeit-und-sucht-thema-wirkungsmessung-in-der-suchthilfe-und-praevention/
CATEGORIES:Deutsch
END:VEVENT
BEGIN:VEVENT
DTSTART;TZID=Europe/Zurich:20261105T090000
DTEND;TZID=Europe/Zurich:20261105T160000
DTSTAMP:20260420T101111
CREATED:20180601T134228Z
LAST-MODIFIED:20260306T070516Z
UID:1817-1793869200-1793894400@www.sages.ch
SUMMARY:Jahrestreffen SAGES-Fachgruppe Pädiatrie
DESCRIPTION:Das Treffen findet in diesem Jahr im Kinderspital Zürich statt. \nBei Interesse an einer Teilnahme wenden Sie sich bitte an:\nUniversitäts-Kinderspital Zürich\, Melanie Baran\, Leiterin Sozialberatung\, Tel. 044 266 74 74\, melanie.baran@kispi.uzh.ch \n 
URL:https://www.sages.ch/agenda/jahrestreffen-sages-fachgruppe-paediatrie/
CATEGORIES:Deutsch
ORGANIZER;CN="SAGES-Fachbereich Spital%2C Sektion P%C3%A4diatrie":MAILTO:irene.weber@kispi.uzh.ch
END:VEVENT
BEGIN:VEVENT
DTSTART;TZID=Europe/Zurich:20261118T150000
DTEND;TZID=Europe/Zurich:20261118T163000
DTSTAMP:20260420T101111
CREATED:20180919T115222Z
LAST-MODIFIED:20260109T075048Z
UID:2078-1795014000-1795019400@www.sages.ch
SUMMARY:Treffen SAGES-Fachbereich Psychiatrie\, FKSP
DESCRIPTION:Bei Interesse an einer Teilnahme wenden Sie sich bitte an: \nPrivatklinik Meiringen\, Stefanie Rytz\, Telefon 033 972 82 72\, stefanie.rytz@privatklinik-meiringen.ch \nDieses Treffen findet Online statt.
URL:https://www.sages.ch/agenda/treffen-sages-fachbereich-psychiatrie-fksp-3/
CATEGORIES:Deutsch
ORGANIZER;CN="SAGES-Fachbereich Psychiatrie%2C FKSP":MAILTO:marlis.baumeler@pukzh.ch
END:VEVENT
END:VCALENDAR