BEGIN:VCALENDAR
VERSION:2.0
PRODID:-//SAGES - ECPv6.15.17.1//NONSGML v1.0//EN
CALSCALE:GREGORIAN
METHOD:PUBLISH
X-WR-CALNAME:SAGES
X-ORIGINAL-URL:https://www.sages.ch
X-WR-CALDESC:Veranstaltungen für SAGES
REFRESH-INTERVAL;VALUE=DURATION:PT1H
X-Robots-Tag:noindex
X-PUBLISHED-TTL:PT1H
BEGIN:VTIMEZONE
TZID:Europe/Zurich
BEGIN:DAYLIGHT
TZOFFSETFROM:+0100
TZOFFSETTO:+0200
TZNAME:CEST
DTSTART:20240331T010000
END:DAYLIGHT
BEGIN:STANDARD
TZOFFSETFROM:+0200
TZOFFSETTO:+0100
TZNAME:CET
DTSTART:20241027T010000
END:STANDARD
BEGIN:DAYLIGHT
TZOFFSETFROM:+0100
TZOFFSETTO:+0200
TZNAME:CEST
DTSTART:20250330T010000
END:DAYLIGHT
BEGIN:STANDARD
TZOFFSETFROM:+0200
TZOFFSETTO:+0100
TZNAME:CET
DTSTART:20251026T010000
END:STANDARD
BEGIN:DAYLIGHT
TZOFFSETFROM:+0100
TZOFFSETTO:+0200
TZNAME:CEST
DTSTART:20260329T010000
END:DAYLIGHT
BEGIN:STANDARD
TZOFFSETFROM:+0200
TZOFFSETTO:+0100
TZNAME:CET
DTSTART:20261025T010000
END:STANDARD
END:VTIMEZONE
BEGIN:VEVENT
DTSTART;VALUE=DATE:20251015
DTEND;VALUE=DATE:20251017
DTSTAMP:20260421T203915
CREATED:20250228T144247Z
LAST-MODIFIED:20250228T144247Z
UID:10029-1760497200-1760583599@www.sages.ch
SUMMARY:Wenn Soziale Arbeit auf Sucht trifft
DESCRIPTION:Fachleute der Sozialen Arbeit blicken auf eine lange Tradition in der Suchthilfe zurück und sind die am häufigsten vertretene Berufsgruppe in diesem Feld. Trotzdem tun sie sich oft schwer\, Antworten auf diese Fragen zu finden. Häufig deshalb\, weil ihnen Modelle und Instrumente fehlen\, um komplexe Lebenslagen adäquat zu erfassen und zu bearbeiten.\nDabei wird es für die Soziale Arbeit immer wichtiger\, ihre Aufgaben und das professionelle Handeln begründen zu können. Einerseits steigt der Druck zum Leistungs- und Wirkungsnachweis aufgrund der zunehmenden Ökonomisierung. Anderseits riskiert die Soziale Arbeit wegen der Medizinalisierung ins Abseits zu geraten\, unter anderem weil sie ihre Leistungen nicht über die Krankenkassen abrechnen kann. Darunter leiden insbesondere Menschen mit chronifizierten Suchtproblemen und Mehrfachbelastungen\, die auf umfassende\, interprofessionelle Unterstützung angewiesen sind. Voraussetzung dafür ist eine Soziale Arbeit\, die auf Augenhöhe mit anderen Berufsgruppen zusammenarbeitet und die ihren Auftrag\, ihr Handeln und ihre Grenzen zu vermitteln vermag. Hier setzt das neue dreitätige Fachseminar an. \n› Webseite
URL:https://www.sages.ch/agenda/wenn-soziale-arbeit-auf-sucht-trifft/
LOCATION:Fachhochschule Nordwestschweiz FHNW\, Hochschule für Soziale Arbeit\, Von Rollstrasse 10\, Olten\, 4600\, Schweiz
CATEGORIES:Weiterbildungen
END:VEVENT
BEGIN:VEVENT
DTSTART;TZID=Europe/Zurich:20251023T150000
DTEND;TZID=Europe/Zurich:20251023T190000
DTSTAMP:20260421T203915
CREATED:20251010T134855Z
LAST-MODIFIED:20251010T134855Z
UID:10834-1761231600-1761246000@www.sages.ch
SUMMARY:Zum Internationalen Tag der Psychischen Gesundheit Verpixelte Gedanken? Mentale Gesundheit im Onlinekosmos
DESCRIPTION:Digitalität und Künstliche Intelligenz prägen unseren Alltag. Sie eröffne neue Chancen\, werfen aber auch Fragen auf. Welche digitalen Helfer können meine psychische Gesundheit stärken? Was kann ich tun\, wenn mich die digitalen Welten überfordern? Und wie gehen wir verantwortungsvoll mit digitalen Medien um? In unserer Diskussionslounge geben Fachpersonen Impulse zu drei Themen und laden zum Austausch ein. Diskutieren Sie mit\, stellen Sie Fragen oder hören Sie einfach zu. Vernetzen Sie sich am Marktplatz mit regionalen Angeboten aus dem Sozial- und Gesundheitswesen und probieren Sie digitale Helfer aus. Lassen Sie sich in der Kreativinsel inspirieren oder gönnen Sie sich in der Offline Oase einen Achtsamkeits-Spaziergang. \n› Flyer
URL:https://www.sages.ch/agenda/zum-internationalen-tag-der-psychischen-gesundheit-verpixelte-gedanken-mentale-gesundheit-im-onlinekosmos/
LOCATION:Haus Liebestrasse\, Liebestrasse 3\, Winterthur\, 8400
CATEGORIES:Deutsch
END:VEVENT
END:VCALENDAR