BEGIN:VCALENDAR
VERSION:2.0
PRODID:-//SAGES - ECPv6.15.17.1//NONSGML v1.0//EN
CALSCALE:GREGORIAN
METHOD:PUBLISH
X-ORIGINAL-URL:https://www.sages.ch
X-WR-CALDESC:Veranstaltungen für SAGES
REFRESH-INTERVAL;VALUE=DURATION:PT1H
X-Robots-Tag:noindex
X-PUBLISHED-TTL:PT1H
BEGIN:VTIMEZONE
TZID:Europe/Zurich
BEGIN:DAYLIGHT
TZOFFSETFROM:+0100
TZOFFSETTO:+0200
TZNAME:CEST
DTSTART:20230326T010000
END:DAYLIGHT
BEGIN:STANDARD
TZOFFSETFROM:+0200
TZOFFSETTO:+0100
TZNAME:CET
DTSTART:20231029T010000
END:STANDARD
BEGIN:DAYLIGHT
TZOFFSETFROM:+0100
TZOFFSETTO:+0200
TZNAME:CEST
DTSTART:20240331T010000
END:DAYLIGHT
BEGIN:STANDARD
TZOFFSETFROM:+0200
TZOFFSETTO:+0100
TZNAME:CET
DTSTART:20241027T010000
END:STANDARD
BEGIN:DAYLIGHT
TZOFFSETFROM:+0100
TZOFFSETTO:+0200
TZNAME:CEST
DTSTART:20250330T010000
END:DAYLIGHT
BEGIN:STANDARD
TZOFFSETFROM:+0200
TZOFFSETTO:+0100
TZNAME:CET
DTSTART:20251026T010000
END:STANDARD
END:VTIMEZONE
BEGIN:VEVENT
DTSTART;TZID=Europe/Zurich:20240515T170000
DTEND;TZID=Europe/Zurich:20241203T190000
DTSTAMP:20260422T231607
CREATED:20240322T102841Z
LAST-MODIFIED:20241108T125432Z
UID:8671-1715792400-1733252400@www.sages.ch
SUMMARY:ECCSW: Soziale Diagnostik Weiterbildungsreihe und Austauschforum 2024
DESCRIPTION:Kaum ein Thema wurde in den letzten Jahren über den Diskurs der Fachsozialarbeit hinaus so breit besprochen wie Soziale Diagnostik. Die intensive Auseinandersetzung fußt auf der Professionalisierungsbemühung Sozialer Arbeit\, in der die Disziplin mittels (Grundlagen)Publikationen\, aber auch weiterführenden Diskursen (u.a. in der trinationalen AG QuaSoDia Koordination von Prof.in Dr.in Anna Lena Rademaker) die Entwicklung und Verstetigung Sozialer Diagnostik vorantreibt. Innerhalb der Klinischen Sozialarbeit nimmt Soziale Diagnostik einen besonderen Stellenwert ein. Das ECCSW als Unterstützungsressource für klinisch-sozialarbeiterische Praktiker:innen hat sich seit 2023 zum Ziel gesetzt\, die kontinuierliche Weiterentwicklung klinisch-sozialarbeiterischer Handlungskompetenzen zu unterstützen. Die 120-minütigen Onlineveranstaltungen (via Zoom) sind so konzipiert\, dass Expert:innen aus Disziplin wie Praxis Klinischer Sozialarbeit zunächst einen Input zu spezifischen Instrumenten und aktuellen Diskussionen zu Prozessen gestalten. Anschließend sollen diese Inhalte in kleinen Gruppen erprobt und/oder diskutiert werden. Zudem sollen weitere Fragen aufgenommen werden: Welche Ressourcen haben die Teilnehmenden für Soziale Diagnostik in ihrer Praxis? Welchen Herausforderungen sehen sie sich gegenübergestellt? Welche Unterstützung benötigen sie ggfs. aus der Klinischen Sozialarbeit heraus? \n› Termine und Themen 2024
URL:https://www.sages.ch/agenda/eccsw-soziale-diagnostik-weiterbildungsreihe-und-austauschforum-2024/
CATEGORIES:Deutsch,Weiterbildungen
END:VEVENT
BEGIN:VEVENT
DTSTART;TZID=Europe/Zurich:20240611T180000
DTEND;TZID=Europe/Zurich:20240625T200000
DTSTAMP:20260422T231607
CREATED:20240524T152139Z
LAST-MODIFIED:20240524T152317Z
UID:8890-1718128800-1719345600@www.sages.ch
SUMMARY:Online Arlt Lectures: Netzwerkdiagnostik und Biografische Diagnostik
DESCRIPTION:Diese Lecture-Reihe widmet sich an aktuellen Weiterentwicklungen von Instrumenten der Netzwerkdiagnostik und der Biografischen Diagnostik. \nIn der ersten Lecture am 11. Juni 2024  geben Christian Schwital von der Saxion Hochschule in Enschede (Niederlande) und Karin Goger vom Department Soziales der FH St. Pölten gemeinsam Einblicke in das Entwicklungsprojekt „TransSoDia – Kooperative Diagnostik Soziale Diagnostik transnational und digital lehren und lernen„. Dabei wird auf aktuelle kontroverse Diskurse über den Gegenstand und die Prinzipien Sozialer Diagnostik eingegangen. Die grundlegende Begriffe der Netzwerkdiagnostik und der Biografischen Diagnostik werden besprochen\, um für die Potenziale einer mehrdimensionalen Auseinandersetzung mit sozialen Beziehungen und der „Geschichte“ von Klient*innen zu sensibilisieren. \nDie Lecture am 18. Juni 2024 widmet sich den Besonderheiten von Biografischer Diagnostik: Verfahren zur Rekonstruktion des Lebensverlaufs und der biografischen Erzählung werden skizziert und Praxiserfahrungen mit der Analyse von Biografien werden diskutiert. Die aktuelle Version der neuen WebApp easyBiograph wird präsentiert und in Hinblick auf ihre Anwendbarkeit in den Praxisfeldern der Teilnehmer*innen eingeschätzt. \nAm 25. Juni 2024 wird auf die Diagnostik von Netzwerkbeziehungen fokussiert. Die neue WebbApp easyNWK 3.0 wird erprobt als Instrument zur Visualisierung und Analyse von egozentrierten Netzwerken vor. Besonderes Augenmerk gilt dabei aktuellen Erweiterungen zur Darstellung von Beziehungsqualitäten und Veränderung der Netzwerkstrukturen. Ausgewählte Forschungserkenntnisse zur Bedeutung von sozialen Netzwerkbeziehungen sollen Ideen zur kooperativen Analyse der Strukturen und Inhalte des Netzwerks anregen. \n› Webseite
URL:https://www.sages.ch/agenda/in-a-nutshell-netzwerkdiagnostik-und-biografische-diagnostik/
LOCATION:Online
CATEGORIES:Deutsch
END:VEVENT
BEGIN:VEVENT
DTSTART;VALUE=DATE:20240620
DTEND;VALUE=DATE:20240623
DTSTAMP:20260422T231607
CREATED:20240426T130431Z
LAST-MODIFIED:20240426T151127Z
UID:8720-1718852400-1719025199@www.sages.ch
SUMMARY:Internationale Tagung zu “Decisions\, Assessment\, Risk\, and Evidence in Social Work”
DESCRIPTION:Am 20. und 21. Juni findet die internationale Tagung «Decisions\, Assessment\, Risk\, and Evidence in Social Work» (DARE) zum ersten Mal an der ZHAW Zürcher Hochschule für Angewandte Wissenschaften im Toni-Areal in Zürich statt. \nDie DARE-Tagung bietet Praktiker:innen\, Entscheidungsträger:innen in Organisationen und Politik sowie Wissenschaftler:innen die Gelegenheit\, Einblicke in aktuellste internationale wissenschaftliche Befunde zu den Themen Entscheidung\, Assessment\, Risiko und Evidenz in der Sozialen Arbeit zu erhalten und diese zu diskutieren. Die Beiträge kommen aus verschiedenen Arbeitsfeldern der Sozialen Arbeit\, insbesondere dem Kindesschutz\, der Suchtarbeit und der Sozialen Arbeit im Gesundheitswesen. Darüber hinaus widmen sie sich auch übergreifenden Themen wie beispielsweise Partizipation oder Künstlicher Intelligenz. Die Beiträge befassen sich insbesondere mit: \n\nProfessioneller Urteilsbildung und Entscheidungsprozessen\nAbklärungsinstrumenten und Assessment Tools\nRisikoassessment und -management\nÜbertragung wissenschaftlicher Erkenntnisse in die Praxis\nAnderen ethischen\, psychologischen\, technologischen und kontextuellen Aspekten von Entscheidungen\, Assessment\, Risiko und Evidenz in der Sozialen Arbeit.\n\nHauptredner:innen: \n\nProf. em. Brian Taylor\, Ulster University\, Nordirland\, zu “Decisions\, Assessment and Risk: Where Are We Now?”\nProf. Cheryl Regehr\, University of Toronto\, Kanada\, zu “Stress\, Trauma and Decision-Making in Social Work”\nProf. Rhema Vaithianathan\, Auckland University of Technology\, Neuseeland\, zu “Can using predictive risk models reduce racial bias? Evidence from Child Welfare and Homelessness Systems”\n\nNeben den drei Keynotes werden in parallelen Sessions internationale Beiträge präsentiert und diskutiert. Einen Überblick über die 51 Präsentationen\, 2 Symposien\, 3 Workshops und 12 Poster findet sich auf der Tagungswebseite. Das finale Programm wird Anfang Mai veröffentlicht. \nDie Tagungssprache ist Englisch. \n 
URL:https://www.sages.ch/agenda/internationale-tagung-zu-decisions-assessment-risk-and-evidence-in-social-work-an-der-zhaw-in-zuerich/
LOCATION:ZHAW\, Campus Toni-Areal\, Pfingstweidstrasse 96\, Zürich\, 8005\, Schweiz
CATEGORIES:Deutsch,Französisch
END:VEVENT
END:VCALENDAR