BEGIN:VCALENDAR
VERSION:2.0
PRODID:-//SAGES - ECPv6.15.17.1//NONSGML v1.0//EN
CALSCALE:GREGORIAN
METHOD:PUBLISH
X-ORIGINAL-URL:https://www.sages.ch
X-WR-CALDESC:Veranstaltungen für SAGES
REFRESH-INTERVAL;VALUE=DURATION:PT1H
X-Robots-Tag:noindex
X-PUBLISHED-TTL:PT1H
BEGIN:VTIMEZONE
TZID:Europe/Zurich
BEGIN:DAYLIGHT
TZOFFSETFROM:+0100
TZOFFSETTO:+0200
TZNAME:CEST
DTSTART:20230326T010000
END:DAYLIGHT
BEGIN:STANDARD
TZOFFSETFROM:+0200
TZOFFSETTO:+0100
TZNAME:CET
DTSTART:20231029T010000
END:STANDARD
BEGIN:DAYLIGHT
TZOFFSETFROM:+0100
TZOFFSETTO:+0200
TZNAME:CEST
DTSTART:20240331T010000
END:DAYLIGHT
BEGIN:STANDARD
TZOFFSETFROM:+0200
TZOFFSETTO:+0100
TZNAME:CET
DTSTART:20241027T010000
END:STANDARD
BEGIN:DAYLIGHT
TZOFFSETFROM:+0100
TZOFFSETTO:+0200
TZNAME:CEST
DTSTART:20250330T010000
END:DAYLIGHT
BEGIN:STANDARD
TZOFFSETFROM:+0200
TZOFFSETTO:+0100
TZNAME:CET
DTSTART:20251026T010000
END:STANDARD
END:VTIMEZONE
BEGIN:VEVENT
DTSTART;TZID=Europe/Zurich:20240515T170000
DTEND;TZID=Europe/Zurich:20241203T190000
DTSTAMP:20260422T151735
CREATED:20240322T102841Z
LAST-MODIFIED:20241108T125432Z
UID:8671-1715792400-1733252400@www.sages.ch
SUMMARY:ECCSW: Soziale Diagnostik Weiterbildungsreihe und Austauschforum 2024
DESCRIPTION:Kaum ein Thema wurde in den letzten Jahren über den Diskurs der Fachsozialarbeit hinaus so breit besprochen wie Soziale Diagnostik. Die intensive Auseinandersetzung fußt auf der Professionalisierungsbemühung Sozialer Arbeit\, in der die Disziplin mittels (Grundlagen)Publikationen\, aber auch weiterführenden Diskursen (u.a. in der trinationalen AG QuaSoDia Koordination von Prof.in Dr.in Anna Lena Rademaker) die Entwicklung und Verstetigung Sozialer Diagnostik vorantreibt. Innerhalb der Klinischen Sozialarbeit nimmt Soziale Diagnostik einen besonderen Stellenwert ein. Das ECCSW als Unterstützungsressource für klinisch-sozialarbeiterische Praktiker:innen hat sich seit 2023 zum Ziel gesetzt\, die kontinuierliche Weiterentwicklung klinisch-sozialarbeiterischer Handlungskompetenzen zu unterstützen. Die 120-minütigen Onlineveranstaltungen (via Zoom) sind so konzipiert\, dass Expert:innen aus Disziplin wie Praxis Klinischer Sozialarbeit zunächst einen Input zu spezifischen Instrumenten und aktuellen Diskussionen zu Prozessen gestalten. Anschließend sollen diese Inhalte in kleinen Gruppen erprobt und/oder diskutiert werden. Zudem sollen weitere Fragen aufgenommen werden: Welche Ressourcen haben die Teilnehmenden für Soziale Diagnostik in ihrer Praxis? Welchen Herausforderungen sehen sie sich gegenübergestellt? Welche Unterstützung benötigen sie ggfs. aus der Klinischen Sozialarbeit heraus? \n› Termine und Themen 2024
URL:https://www.sages.ch/agenda/eccsw-soziale-diagnostik-weiterbildungsreihe-und-austauschforum-2024/
CATEGORIES:Deutsch,Weiterbildungen
END:VEVENT
BEGIN:VEVENT
DTSTART;TZID=Europe/Zurich:20241118T084500
DTEND;TZID=Europe/Zurich:20241118T170000
DTSTAMP:20260422T151735
CREATED:20240809T153929Z
LAST-MODIFIED:20240809T154428Z
UID:9121-1731919500-1731949200@www.sages.ch
SUMMARY:Austauschplattform «Mutterschaft und Sucht»
DESCRIPTION:Am 18. November organisiert Sucht Schweiz in Bern eine Am 18. November organisiert Sucht Schweiz in Bern eine Austauschplattform zu dem Thema «Mutterschaft und Sucht» \nDie Mutterschaft ist ein Lebensabschnitt\, in dem Frauen mit neuen Verpflichtungen und zahlreichen Herausforderungen konfrontiert werden. Für Frauen mit einer Suchterkrankung sind diese Herausforderungen besonders gross\, und eine Unterstützung bei der Schwangerschaft und der Elternschaft wäre wünschenswert. Diese Mütter verzichten jedoch oft aus verschiedenen Gründen darauf\, sich Hilfe zu suchen\, und sind daher mit ihren Schwierigkeiten allein und isoliert. In der Schweiz haben einige Institutionen Angebote entwickelt\, die sich speziell mit der Problematik von Mutterschaft und Sucht befassen. Ziel dieser Angebote ist es\, gemeinsam auf die Bedürfnisse der Mütter und ihrer Kinder einzugehen. \nZiele: \n-Die Realität von Müttern mit Suchtproblemen in der Schweiz thematisieren \n-Die Herausforderungen der Elternschaft in einer Suchtsituation in verschiedenen Altersstufen des Kindes erforschen \n-Die Angebote von Institutionen\, die in diesem Bereich tätig sind kennen \n-Fachleuten die Möglichkeit geben\, sich zu treffen und sich über ihre Praxis auszutauschen \nZielgruppe: Fachkräfte aus dem Suchtbereich\, der Sozialarbeit oder dem Kinderschutz\, die mit Familien arbeiten\, die potenziell von der Sucht des Vaters oder der Mutter betroffen sind (PsychologInnen\, ÄrztInnen\, ErzieherInnen\, SuchtberaterInnen\, schulische Gesundheitsdienste\, SozialarbeiterInnen usw.). \n› Programm \n› Webseite
URL:https://www.sages.ch/agenda/austauschplattform-mutterschaft-und-sucht/
LOCATION:Berner Generationen Haus\, Bahnhofplatz 2\, 3011 Bern
CATEGORIES:Deutsch,Französisch
END:VEVENT
BEGIN:VEVENT
DTSTART;TZID=Europe/Zurich:20241125T093000
DTEND;TZID=Europe/Zurich:20241125T163000
DTSTAMP:20260422T151735
CREATED:20240920T062406Z
LAST-MODIFIED:20240920T062419Z
UID:9260-1732527000-1732552200@www.sages.ch
SUMMARY:Fachtagung Hirnverletzung «Inklusive Arbeitswelt – eine Vision?»
DESCRIPTION:Hirnverletzungen aufgrund eines Schlaganfalls\, eines Unfalls oder anderer Ursachen sind weit verbreitet. Dennoch sind die Kenntnisse im Umgang mit Menschen mit Hirnverletzung auch in Fachkreisen ungenügend. \nNach 2022 befasst sich die zweite Fachtagung von FRAGILE Suisse mit dem Thema der Arbeitsinklusion. Inklusion in die Arbeitswelt geniesst bei Menschen mit Hirnverletzung einen hohen Stellenwert. An dieser Tagung wird nach Lösungsansätzen\, wie Menschen mit Hirnverletzung in der Arbeitswelt teilhaben und wie Fachpersonen sie dabei unterstützen können. \nWelche Möglichkeiten und Strategien gibt es für Betroffene\, Arbeitgebende und Fachpersonen? Welche besonderen Voraussetzungen bei Menschen mit Hirnverletzung sind zu berücksichtigen? \nZiel dieser Tagung ist es\, die Herausforderungen der Arbeitsinklusion für Betroffene zu beleuchten und Lösungsansätze aufzuzeigen. Perspektiven aus der Politik\, von Arbeitgebenden und von Fachexpert:innen\, aber auch von Betroffenen selbst bieten Inputs und zeigen Wege auf\, wie die Inklusion gelingen könnte. \n› Webseite
URL:https://www.sages.ch/agenda/fachtagung-hirnverletzung-inklusive-arbeitswelt-eine-vision/
LOCATION:Careum Weiterbildung\, Mühlemattstrasse 42\, Aarau\, 5000\, Schweiz
CATEGORIES:Deutsch
END:VEVENT
END:VCALENDAR