BEGIN:VCALENDAR
VERSION:2.0
PRODID:-//SAGES - ECPv6.15.17.1//NONSGML v1.0//EN
CALSCALE:GREGORIAN
METHOD:PUBLISH
X-WR-CALNAME:SAGES
X-ORIGINAL-URL:https://www.sages.ch/fr/
X-WR-CALDESC:Évènements pour SAGES
REFRESH-INTERVAL;VALUE=DURATION:PT1H
X-Robots-Tag:noindex
X-PUBLISHED-TTL:PT1H
BEGIN:VTIMEZONE
TZID:Europe/Zurich
BEGIN:DAYLIGHT
TZOFFSETFROM:+0100
TZOFFSETTO:+0200
TZNAME:CEST
DTSTART:20250330T010000
END:DAYLIGHT
BEGIN:STANDARD
TZOFFSETFROM:+0200
TZOFFSETTO:+0100
TZNAME:CET
DTSTART:20251026T010000
END:STANDARD
BEGIN:DAYLIGHT
TZOFFSETFROM:+0100
TZOFFSETTO:+0200
TZNAME:CEST
DTSTART:20260329T010000
END:DAYLIGHT
BEGIN:STANDARD
TZOFFSETFROM:+0200
TZOFFSETTO:+0100
TZNAME:CET
DTSTART:20261025T010000
END:STANDARD
BEGIN:DAYLIGHT
TZOFFSETFROM:+0100
TZOFFSETTO:+0200
TZNAME:CEST
DTSTART:20270328T010000
END:DAYLIGHT
BEGIN:STANDARD
TZOFFSETFROM:+0200
TZOFFSETTO:+0100
TZNAME:CET
DTSTART:20271031T010000
END:STANDARD
BEGIN:DAYLIGHT
TZOFFSETFROM:+0100
TZOFFSETTO:+0200
TZNAME:CEST
DTSTART:20280326T010000
END:DAYLIGHT
BEGIN:STANDARD
TZOFFSETFROM:+0200
TZOFFSETTO:+0100
TZNAME:CET
DTSTART:20281029T010000
END:STANDARD
END:VTIMEZONE
BEGIN:VEVENT
DTSTART;VALUE=DATE:20260101
DTEND;VALUE=DATE:20270103
DTSTAMP:20260419T150032
CREATED:20220513T111208Z
LAST-MODIFIED:20260213T072328Z
UID:6072-1767236400-1798858799@www.sages.ch
SUMMARY:HIN Academy: Protection des données et sécurité informatique dans le secteur de la santé
DESCRIPTION:Dans le cadre de la numérisation\, les cyberattaques ne cessent d’augmenter et il est de plus en plus difficile de tenir compte à tout moment de la protection des données. L’objectif de HIN Academy est donc d’attirer l’attention sur le traitement sécurisé des données de la santé. HIN montre que les thématiques de la protection des données et de la sécurité informatique concernent tous les acteurs du secteur de la santé et du social et crée une prise de conscience durable pour le traitement minutieux des données particulièrement sensibles. \n› Découvrez les formations de sensibilisation HIN
URL:https://www.sages.ch/fr/agenda/hin-academy-protection-des-donnees-et-securite-informatique-dans-le-secteur-de-la-sante/
CATEGORIES:Formations
ORGANIZER;CN="Health Info Net AG":MAILTO:info@hin.ch
END:VEVENT
BEGIN:VEVENT
DTSTART;TZID=Europe/Zurich:20260506T130000
DTEND;TZID=Europe/Zurich:20260506T170000
DTSTAMP:20260419T150032
CREATED:20260417T140043Z
LAST-MODIFIED:20260417T140145Z
UID:11623-1778072400-1778086800@www.sages.ch
SUMMARY:Fachtagung: Psychische Gesundheit von Geflüchteten stärken
DESCRIPTION:Die Tagung widmet sich dem Thema « Psychische Gesundheit von Geflüchteten in der Schweiz stärken » und bietet ein vielfältiges Programm mit spannenden Fachinputs\, unterschiedlichen Gastreferierenden sowie interaktiven zielgruppenspezifischen Workshops. \n Gerade im Arbeitsalltag stellen sich oft komplexe fachliche Fragen. Die Tagung bietet die Möglichkeit\, solche Fragestellungen gemeinsam mit Fachpersonen aus dem gleichen und ähnlichen Arbeitsfeldern zu reflektieren und neue Perspektiven zu gewinnen. \n› Webseite
URL:https://www.sages.ch/fr/agenda/fachtagung-psychische-gesundheit-von-gefluechteten-staerken/
LOCATION:ZHAW\, Campus Toni-Areal\, Pfingstweidstrasse 96\, Zürich\, 8005\, Schweiz
CATEGORIES:Allemand
END:VEVENT
BEGIN:VEVENT
DTSTART;TZID=Europe/Zurich:20260512T090000
DTEND;TZID=Europe/Zurich:20260512T160000
DTSTAMP:20260419T150032
CREATED:20251121T133831Z
LAST-MODIFIED:20260306T070335Z
UID:11021-1778576400-1778601600@www.sages.ch
SUMMARY:Einsamkeit im Fokus - Einsamkeitsphänomene in der Sozialen Arbeit erkennen und ihnen professionell begegnen
DESCRIPTION:Weltweit berichten rund 20 Prozent aller Menschen von schwer auszuhaltenden Erfahrungen der Einsamkeit. Darunter wird ein subjektiv wahrgenommener Mangel an quantitativen und/oder qualitativen Aspekten eigener sozialer Beziehungen verstanden. Einsamkeit wirkt sich negativ auf Gesundheit und Wohlbefinden aus. Vor allem im Kontext andauernder Unsicherheit durch gesellschaftliche Krisen und der damit einhergehenden Auflösung sozialer und politischer Strukturen hat Einsamkeit zahlreiche Facetten angenommen\, die über die gesamte Lebensspanne hinausreichen. Mittlerweile sind verschiedene Einsamkeitsphänomene bekannt\, beispielsweise bei Kindern und Jugendlichen im Zusammenhang mit der COVID-19-Pandemie\, bei Menschen mit depressiven Erkrankungen\, bei gesellschaftlichen Minderheiten im Zuge zunehmender Stigmatisierung und Ausgrenzung oder im Alter. Trotz zahlreicher Erkenntnisse über die Folgen wird die Bedeutung von Einsamkeit für ein gesundes Leben in der Bevölkerung weiterhin häufig relativiert. \nDas European Centre for Clinical Social Work e.V. (ECCSW) lädt daher am 12. Mai 2026 unter dem Motto „Einsamkeit im Fokus – Einsamkeitsphänomene in der Sozialen Arbeit erkennen und ihnen professionell begegnen“ zu einer kostenfreien Onlinefachtagung ein. \nSAGES ist Kooperationspartner der Fachtagung. \n› Webseite\n› Flyer
URL:https://www.sages.ch/fr/agenda/save-the-date-call-einsamkeit-im-fokus-einsamkeitsphaenomene-in-der-sozialen-arbeit-erkennen-und-ihnen-professionell-begegnen/
LOCATION:Online
CATEGORIES:Allemand
ORGANIZER;CN="ECCSW%3A European Centre for Clinical Social Work":MAILTO:info@eccsw.eu
END:VEVENT
BEGIN:VEVENT
DTSTART;TZID=Europe/Zurich:20260513T150000
DTEND;TZID=Europe/Zurich:20260513T170000
DTSTAMP:20260419T150032
CREATED:20241220T094848Z
LAST-MODIFIED:20260306T102825Z
UID:9651-1778684400-1778691600@www.sages.ch
SUMMARY:9e assemblé générale de SAGES
DESCRIPTION:La 9e assemblée générale de SAGES aura lieu mercredi\, 13 mai 2026. La rencontre aura lieu à la FHNW à Olten. Comme l’année dernière\, une participation en ligne via Zoom sera proposée. \nOutre les statuts de SAGES et le règlement interne\, qui ont été révisés dans le cadre de la nouvelle structure de l’association\, la « charte pour le travail social en lien avec la santé »\, élaborée en collaboration avec l’association professionnelle AvenirSocial\, sera également adoptée. Notre assemblée générale se conclura par un apéritif riche auquel toutes les personnes participantes sur place sont chaleureusement invitées. \n› S’inscrire \n 
URL:https://www.sages.ch/fr/agenda/e-assemble-generale-de-sages/
LOCATION:Fachhochschule Nordwestschweiz FHNW\, Hochschule für Soziale Arbeit\, Von Rollstrasse 10\, Olten\, 4600\, Schweiz
CATEGORIES:Allemand,Français
END:VEVENT
BEGIN:VEVENT
DTSTART;TZID=Europe/Zurich:20260519T123000
DTEND;TZID=Europe/Zurich:20260519T133000
DTSTAMP:20260419T150032
CREATED:20260116T102927Z
LAST-MODIFIED:20260313T075410Z
UID:11201-1779193800-1779197400@www.sages.ch
SUMMARY:Série de webinaires sur la prescription sociale aujourd'hui - connaissances\, impact et mise en œuvre
DESCRIPTION:La prescription sociale est un moyen pour les professionnels de la santé de mettre en relation les patients et les patientes avec une série de services non médicaux dans la communauté afin d’améliorer leur santé et leur bien-être. \nCela peut contribuer à s’attaquer aux causes sous-jacentes des problèmes au niveau de la santé et du bien-être\, plutôt que de se contenter de traiter les symptômes. \nLe webinaire est une offre de SAGES et fmc. \n› S’inscrire \nDate et thèmes :\n\n\n\n\n4 mars 2026 | 12h30 à 13h30 | En anglais\nComprendre la prescription sociale : Ce que nous savons aujourd’hui\n\n\n\n\n\n\n\n\n21 avril 2026 | 12h30 bis 13h30 | En allemand avec traduction simultanée en français*\nComment fonctionne la prescription sociale : exemples pratiques en Suisse\n\n\n\n\n19 mai 2026 | 12h30 bis 13h30 | En allemand avec traduction simultanée en français*\nPromouvoir la prescription sociale – comment y parvient-on en Suisse ?\n\n\n\n\n\n\n\n\n* Traduction simultanée assurée si 10 personnes francophones ou plus sont inscrites. \n\n› S’inscrire\n› Flyer
URL:https://www.sages.ch/fr/agenda/webinarreihe-social-prescribing-heute-wissen-wirkung-und-umsetzung-3/
CATEGORIES:Allemand,Français
END:VEVENT
BEGIN:VEVENT
DTSTART;TZID=Europe/Zurich:20260521T123000
DTEND;TZID=Europe/Zurich:20260521T163000
DTSTAMP:20260419T150032
CREATED:20260313T083142Z
LAST-MODIFIED:20260313T083437Z
UID:11533-1779366600-1779381000@www.sages.ch
SUMMARY:Evénement spotlight «Les personnes âgées à table» - GERONTOLOGIE CH
DESCRIPTION:GERONTOLOGIE CH vous invite à son premier événement Spotlight sur le thème «Les personnes âgées à table». Manger est bien plus qu’un simple apport nutritionnel: cela crée des liens entre les personnes\, réveille des souvenirs et contribue à la qualité de vie. Mais comment nos habitudes alimentaires changent-elles avec l’âge? Quel rôle jouent le plaisir à table et la participation sociale lorsque la santé\, l’appétit ou les conditions de vie changent? Des experts et expertes aborderont le sujet sous différents angles. \nSAGES est partenaire de l’événement; nos membres bénéficient de conditions de participation préférentielles. \n› Site web
URL:https://www.sages.ch/fr/agenda/evenement-spotlight-les-personnes-agees-a-table/
LOCATION:Allresto Kongresszentrum Bern\, Effingerstrasse 20\, Bern\, 3008
CATEGORIES:Allemand,Français
ORGANIZER;CN="GERONTOLOGIE CH":MAILTO:info@gerontologie.ch
END:VEVENT
END:VCALENDAR